BEGIN:VCALENDAR
VERSION:2.0
PRODID:-//Sugar &amp; Sax - ECPv6.0.9//NONSGML v1.0//EN
CALSCALE:GREGORIAN
METHOD:PUBLISH
X-WR-CALNAME:Sugar &amp; Sax
X-ORIGINAL-URL:https://sugarandsax.co.uk
X-WR-CALDESC:Events for Sugar &amp; Sax
REFRESH-INTERVAL;VALUE=DURATION:PT1H
X-Robots-Tag:noindex
X-PUBLISHED-TTL:PT1H
BEGIN:VTIMEZONE
TZID:UTC
BEGIN:STANDARD
TZOFFSETFROM:+0000
TZOFFSETTO:+0000
TZNAME:UTC
DTSTART:20250101T000000
END:STANDARD
END:VTIMEZONE
BEGIN:VEVENT
DTSTART;TZID=UTC:20251031T203000
DTEND;TZID=UTC:20251031T203000
DTSTAMP:20260421T162349
CREATED:20250624T070714Z
LAST-MODIFIED:20250624T070714Z
UID:19156-1761942600-1761942600@sugarandsax.co.uk
SUMMARY:The Hare & Hounds\, West End
DESCRIPTION:
URL:https://sugarandsax.co.uk/event/the-hare-hounds-west-end
LOCATION:Hare & Hounds\, Brentmoor Rd\, West End\, Woking\, GU24 9QG
END:VEVENT
END:VCALENDAR