BEGIN:VCALENDAR
VERSION:2.0
PRODID:-//Sugar &amp; Sax - ECPv6.0.9//NONSGML v1.0//EN
CALSCALE:GREGORIAN
METHOD:PUBLISH
X-WR-CALNAME:Sugar &amp; Sax
X-ORIGINAL-URL:https://sugarandsax.co.uk
X-WR-CALDESC:Events for Sugar &amp; Sax
REFRESH-INTERVAL;VALUE=DURATION:PT1H
X-Robots-Tag:noindex
X-PUBLISHED-TTL:PT1H
BEGIN:VTIMEZONE
TZID:UTC
BEGIN:STANDARD
TZOFFSETFROM:+0000
TZOFFSETTO:+0000
TZNAME:UTC
DTSTART:20260101T000000
END:STANDARD
END:VTIMEZONE
BEGIN:VEVENT
DTSTART;TZID=UTC:20260404T203000
DTEND;TZID=UTC:20260404T203000
DTSTAMP:20260419T145602
CREATED:20260106T164247Z
LAST-MODIFIED:20260106T164247Z
UID:23926-1775334600-1775334600@sugarandsax.co.uk
SUMMARY:The Red Lion\, Langley
DESCRIPTION:
URL:https://sugarandsax.co.uk/event/the-red-lion-langley-2
LOCATION:The Red Lion\, Langley\, 1 St Mary's Rd\,\, Langley\, Slough\, SL3 7EN
END:VEVENT
END:VCALENDAR