BEGIN:VCALENDAR
VERSION:2.0
PRODID:-//Sugar &amp; Sax - ECPv6.0.9//NONSGML v1.0//EN
CALSCALE:GREGORIAN
METHOD:PUBLISH
X-WR-CALNAME:Sugar &amp; Sax
X-ORIGINAL-URL:https://sugarandsax.co.uk
X-WR-CALDESC:Events for Sugar &amp; Sax
REFRESH-INTERVAL;VALUE=DURATION:PT1H
X-Robots-Tag:noindex
X-PUBLISHED-TTL:PT1H
BEGIN:VTIMEZONE
TZID:UTC
BEGIN:STANDARD
TZOFFSETFROM:+0000
TZOFFSETTO:+0000
TZNAME:UTC
DTSTART:20250101T000000
END:STANDARD
END:VTIMEZONE
BEGIN:VEVENT
DTSTART;TZID=UTC:20250927T203000
DTEND;TZID=UTC:20250927T203000
DTSTAMP:20260421T194614
CREATED:20250211T174258Z
LAST-MODIFIED:20250211T174258Z
UID:15910-1759005000-1759005000@sugarandsax.co.uk
SUMMARY:The Red Lion\, Langley
DESCRIPTION:
URL:https://sugarandsax.co.uk/event/the-red-lion-langley
LOCATION:The Red Lion\, Langley\, 1 St Mary's Rd\,\, Langley\, Slough\, SL3 7EN
END:VEVENT
BEGIN:VEVENT
DTSTART;VALUE=DATE:20250913
DTEND;VALUE=DATE:20250915
DTSTAMP:20260421T194614
CREATED:20250217T084905Z
LAST-MODIFIED:20250217T084905Z
UID:16052-1757732400-1757818799@sugarandsax.co.uk
SUMMARY:Private Function\, Sunbury
DESCRIPTION:
URL:https://sugarandsax.co.uk/event/private-function-sunbury
END:VEVENT
BEGIN:VEVENT
DTSTART;TZID=UTC:20250829T200000
DTEND;TZID=UTC:20250829T200000
DTSTAMP:20260421T194614
CREATED:20240703T181603Z
LAST-MODIFIED:20240902T075052Z
UID:10416-1756497600-1756497600@sugarandsax.co.uk
SUMMARY:The Swan\, Farnborough
DESCRIPTION:
URL:https://sugarandsax.co.uk/event/the-swan-farnborough-7
LOCATION:The Swan\, Farnborough\, 91 Farnborough Rd\, Farnborough\, Hampshire\, GU14 6TL
END:VEVENT
BEGIN:VEVENT
DTSTART;TZID=UTC:20250823T133000
DTEND;TZID=UTC:20250823T133000
DTSTAMP:20260421T194614
CREATED:20241201T175023Z
LAST-MODIFIED:20241201T175023Z
UID:14144-1755955800-1755955800@sugarandsax.co.uk
SUMMARY:Wokingham Festival
DESCRIPTION:
URL:https://sugarandsax.co.uk/event/wokingham-festival
END:VEVENT
BEGIN:VEVENT
DTSTART;TZID=UTC:20250822T203000
DTEND;TZID=UTC:20250822T203000
DTSTAMP:20260421T194614
CREATED:20250108T181150Z
LAST-MODIFIED:20250108T181150Z
UID:15069-1755894600-1755894600@sugarandsax.co.uk
SUMMARY:Pews\, Guildford
DESCRIPTION:
URL:https://sugarandsax.co.uk/event/pews-guildford-8
LOCATION:Pews Bar and Courtyard\, 21 Chapel Street\, Guildford\, GU1 3UL
END:VEVENT
BEGIN:VEVENT
DTSTART;VALUE=DATE:20250816
DTEND;VALUE=DATE:20250818
DTSTAMP:20260421T194614
CREATED:20250305T154638Z
LAST-MODIFIED:20250305T154638Z
UID:16458-1755313200-1755399599@sugarandsax.co.uk
SUMMARY:Private Function\, Frimley
DESCRIPTION:
URL:https://sugarandsax.co.uk/event/private-function-frimley
END:VEVENT
BEGIN:VEVENT
DTSTART;VALUE=DATE:20250815
DTEND;VALUE=DATE:20250817
DTSTAMP:20260421T194614
CREATED:20250404T230153Z
LAST-MODIFIED:20250404T230153Z
UID:17211-1755226800-1755313199@sugarandsax.co.uk
SUMMARY:Private Party\, Hartley Wintney
DESCRIPTION:
URL:https://sugarandsax.co.uk/event/private-party-hartley-wintney
END:VEVENT
BEGIN:VEVENT
DTSTART;TZID=UTC:20250810T173000
DTEND;TZID=UTC:20250810T173000
DTSTAMP:20260421T194614
CREATED:20250707T094214Z
LAST-MODIFIED:20250707T094214Z
UID:19478-1754847000-1754847000@sugarandsax.co.uk
SUMMARY:Private Party\, Guildford
DESCRIPTION:
URL:https://sugarandsax.co.uk/event/private-party-guildford-2
END:VEVENT
BEGIN:VEVENT
DTSTART;TZID=UTC:20250809T200000
DTEND;TZID=UTC:20250809T203000
DTSTAMP:20260421T194614
CREATED:20250312T222438Z
LAST-MODIFIED:20250312T222438Z
UID:16645-1754769600-1754771400@sugarandsax.co.uk
SUMMARY:The Swan\, Beaconsfield
DESCRIPTION:
URL:https://sugarandsax.co.uk/event/the-swan-beaconsfield-17
LOCATION:The Swan\, Beaconsfield\, London End\, Beaconsfield\, HP9 2JD
END:VEVENT
BEGIN:VEVENT
DTSTART;TZID=UTC:20250726T213000
DTEND;TZID=UTC:20250726T213000
DTSTAMP:20260421T194614
CREATED:20240831T231009Z
LAST-MODIFIED:20240831T231009Z
UID:11885-1753565400-1753565400@sugarandsax.co.uk
SUMMARY:Carpenters Arms\, Camberley
DESCRIPTION:
URL:https://sugarandsax.co.uk/event/carpenters-arms-camberley-2
LOCATION:Carpenters Arms\, Camberley\, 59 Park St\, Camberley\, GU15 3PE
END:VEVENT
BEGIN:VEVENT
DTSTART;TZID=UTC:20250725T200000
DTEND;TZID=UTC:20250725T200000
DTSTAMP:20260421T194614
CREATED:20240703T181509Z
LAST-MODIFIED:20240902T075104Z
UID:10414-1753473600-1753473600@sugarandsax.co.uk
SUMMARY:The Swan\, Farnborough
DESCRIPTION:
URL:https://sugarandsax.co.uk/event/the-swan-farnborough-6
LOCATION:The Swan\, Farnborough\, 91 Farnborough Rd\, Farnborough\, Hampshire\, GU14 6TL
END:VEVENT
BEGIN:VEVENT
DTSTART;TZID=UTC:20250719T200000
DTEND;TZID=UTC:20250719T200000
DTSTAMP:20260421T194614
CREATED:20250201T131624Z
LAST-MODIFIED:20250201T131624Z
UID:15658-1752955200-1752955200@sugarandsax.co.uk
SUMMARY:Private Function\, Worplesdon
DESCRIPTION:
URL:https://sugarandsax.co.uk/event/private-function-worplesdon
END:VEVENT
BEGIN:VEVENT
DTSTART;TZID=UTC:20250719T150000
DTEND;TZID=UTC:20250719T150000
DTSTAMP:20260421T194614
CREATED:20250113T191051Z
LAST-MODIFIED:20250113T191051Z
UID:15191-1752937200-1752937200@sugarandsax.co.uk
SUMMARY:The Bee\, Burnham
DESCRIPTION:
URL:https://sugarandsax.co.uk/event/the-bee-burnham-2
LOCATION:The Bee\, Burnham\, 1 Britwell Rd\, Burnham\, Slough\, SL1 8AF
END:VEVENT
BEGIN:VEVENT
DTSTART;TZID=UTC:20250704T203000
DTEND;TZID=UTC:20250704T203000
DTSTAMP:20260421T194614
CREATED:20250115T184738Z
LAST-MODIFIED:20250115T184738Z
UID:15241-1751661000-1751661000@sugarandsax.co.uk
SUMMARY:Pews Bar\, Guildford
DESCRIPTION:
URL:https://sugarandsax.co.uk/event/pews-bar-guildford-20
LOCATION:Pews Bar and Courtyard\, 21 Chapel Street\, Guildford\, GU1 3UL
END:VEVENT
BEGIN:VEVENT
DTSTART;TZID=UTC:20250629T140000
DTEND;TZID=UTC:20250629T140000
DTSTAMP:20260421T194614
CREATED:20240906T145709Z
LAST-MODIFIED:20240906T145709Z
UID:12033-1751205600-1751205600@sugarandsax.co.uk
SUMMARY:The Pelican\, Addlestone
DESCRIPTION:
URL:https://sugarandsax.co.uk/event/the-pelican-addlestone-2
LOCATION:The Pelican\, 9 Hamm Moor Ln\, Addlestone\, KT15 2SB
END:VEVENT
BEGIN:VEVENT
DTSTART;TZID=UTC:20250628T173000
DTEND;TZID=UTC:20250628T173000
DTSTAMP:20260421T194614
CREATED:20240903T170051Z
LAST-MODIFIED:20240903T170051Z
UID:11956-1751131800-1751131800@sugarandsax.co.uk
SUMMARY:Private Wedding
DESCRIPTION:
URL:https://sugarandsax.co.uk/event/private-wedding-3
END:VEVENT
BEGIN:VEVENT
DTSTART;TZID=UTC:20250625T190000
DTEND;TZID=UTC:20250625T190000
DTSTAMP:20260421T194614
CREATED:20240605T205418Z
LAST-MODIFIED:20240902T075119Z
UID:9729-1750878000-1750878000@sugarandsax.co.uk
SUMMARY:Private Wedding
DESCRIPTION:
URL:https://sugarandsax.co.uk/event/private-wedding-2
END:VEVENT
BEGIN:VEVENT
DTSTART;TZID=UTC:20250622T140000
DTEND;TZID=UTC:20250622T140000
DTSTAMP:20260421T194614
CREATED:20240816T100306Z
LAST-MODIFIED:20240902T075130Z
UID:11496-1750600800-1750600800@sugarandsax.co.uk
SUMMARY:Wraysbury Village Club
DESCRIPTION:
URL:https://sugarandsax.co.uk/event/wraysbury-village-club-2
LOCATION:Wraysbury Village Club\, Wraysbury Village Club\, 39 The Green\, Wraysbury\, Staines\, TW19 5NA
END:VEVENT
BEGIN:VEVENT
DTSTART;VALUE=DATE:20250621
DTEND;VALUE=DATE:20250623
DTSTAMP:20260421T194614
CREATED:20250126T204632Z
LAST-MODIFIED:20250126T204719Z
UID:15513-1750474800-1750561199@sugarandsax.co.uk
SUMMARY:Private Function\, Maidenhead
DESCRIPTION:
URL:https://sugarandsax.co.uk/event/private-function-maidenhead-4
END:VEVENT
BEGIN:VEVENT
DTSTART;TZID=UTC:20250607T183000
DTEND;TZID=UTC:20250607T183000
DTSTAMP:20260421T194614
CREATED:20240722T170808Z
LAST-MODIFIED:20240722T170808Z
UID:10883-1749321000-1749321000@sugarandsax.co.uk
SUMMARY:Private Function
DESCRIPTION:
URL:https://sugarandsax.co.uk/event/private-function-7
END:VEVENT
BEGIN:VEVENT
DTSTART;TZID=UTC:20250606T190000
DTEND;TZID=UTC:20250606T190000
DTSTAMP:20260421T194614
CREATED:20250220T160103Z
LAST-MODIFIED:20250220T160103Z
UID:16136-1749236400-1749236400@sugarandsax.co.uk
SUMMARY:The Coach House\, Wooburn
DESCRIPTION:
URL:https://sugarandsax.co.uk/event/the-coach-house-wooburn-2
LOCATION:The Coach House\, Wooburn\, 24 The Green\, Wooburn\, Buckinghamshire\, HP10 OEJ
END:VEVENT
BEGIN:VEVENT
DTSTART;TZID=UTC:20250530T213000
DTEND;TZID=UTC:20250530T213000
DTSTAMP:20260421T194614
CREATED:20240905T165428Z
LAST-MODIFIED:20240905T165428Z
UID:12006-1748640600-1748640600@sugarandsax.co.uk
SUMMARY:Bier Keller\, Bracknell
DESCRIPTION:
URL:https://sugarandsax.co.uk/event/bier-keller-bracknell
LOCATION:The Bier Keller\, Bracknell\, Binfield\, Bracknell\, RG12 8TF
END:VEVENT
BEGIN:VEVENT
DTSTART;TZID=UTC:20250523T203000
DTEND;TZID=UTC:20250523T203000
DTSTAMP:20260421T194614
CREATED:20240926T081904Z
LAST-MODIFIED:20240926T151324Z
UID:12513-1748032200-1748032200@sugarandsax.co.uk
SUMMARY:The Ivy House\, Chalfont St Giles
DESCRIPTION:
URL:https://sugarandsax.co.uk/event/the-ivy-house-chalfont-st-giles
LOCATION:The Ivy House\, Chalfont St Giles\, London Rd\, Chalfont Saint Giles\, Buckinghamshire\, HP8 4RS
END:VEVENT
BEGIN:VEVENT
DTSTART;TZID=UTC:20250503T190000
DTEND;TZID=UTC:20250503T190000
DTSTAMP:20260421T194614
CREATED:20240722T170629Z
LAST-MODIFIED:20241014T102246Z
UID:10881-1746298800-1746298800@sugarandsax.co.uk
SUMMARY:Private Wedding
DESCRIPTION:
URL:https://sugarandsax.co.uk/event/private-function-6
END:VEVENT
BEGIN:VEVENT
DTSTART;TZID=UTC:20250501T160000
DTEND;TZID=UTC:20250501T160000
DTSTAMP:20260421T194614
CREATED:20240807T082212Z
LAST-MODIFIED:20240902T075202Z
UID:11273-1746115200-1746115200@sugarandsax.co.uk
SUMMARY:Private  Wedding
DESCRIPTION:
URL:https://sugarandsax.co.uk/event/private-function-wedding
END:VEVENT
BEGIN:VEVENT
DTSTART;TZID=UTC:20250425T203000
DTEND;TZID=UTC:20250425T203000
DTSTAMP:20260421T194614
CREATED:20250317T173027Z
LAST-MODIFIED:20250317T173027Z
UID:16771-1745613000-1745613000@sugarandsax.co.uk
SUMMARY:The Station\, Stoneleigh
DESCRIPTION:
URL:https://sugarandsax.co.uk/event/the-station-stoneleigh
LOCATION:The Station\, Stoneleigh\, The Station\, Stoneleigh\, KT17 2JA
END:VEVENT
BEGIN:VEVENT
DTSTART;TZID=UTC:20250419T200000
DTEND;TZID=UTC:20250419T200000
DTSTAMP:20260421T194614
CREATED:20250220T160232Z
LAST-MODIFIED:20250220T160232Z
UID:16139-1745092800-1745092800@sugarandsax.co.uk
SUMMARY:The Swan\, Beaconsfield
DESCRIPTION:
URL:https://sugarandsax.co.uk/event/the-swan-beaconsfield-14
LOCATION:The Swan\, Beaconsfield\, London End\, Beaconsfield\, HP9 2JD
END:VEVENT
BEGIN:VEVENT
DTSTART;TZID=UTC:20250417T203000
DTEND;TZID=UTC:20250417T203000
DTSTAMP:20260421T194614
CREATED:20241104T140821Z
LAST-MODIFIED:20241104T141423Z
UID:13479-1744921800-1744921800@sugarandsax.co.uk
SUMMARY:King William IV\, West Horsley
DESCRIPTION:
URL:https://sugarandsax.co.uk/event/king-william-vi-west-horsley
LOCATION:King William IV\, West Horsley\, 83 The St\, West Horsley\, Leatherhead\, KT24 6BG
END:VEVENT
BEGIN:VEVENT
DTSTART;TZID=UTC:20250414T160000
DTEND;TZID=UTC:20250414T163000
DTSTAMP:20260421T194614
CREATED:20250228T143726Z
LAST-MODIFIED:20250228T143726Z
UID:16332-1744646400-1744648200@sugarandsax.co.uk
SUMMARY:Private Party\, Chertsey
DESCRIPTION:
URL:https://sugarandsax.co.uk/event/private-party-chertsey
END:VEVENT
BEGIN:VEVENT
DTSTART;TZID=UTC:20250404T200000
DTEND;TZID=UTC:20250404T200000
DTSTAMP:20260421T194614
CREATED:20250206T154119Z
LAST-MODIFIED:20250206T154119Z
UID:15786-1743796800-1743796800@sugarandsax.co.uk
SUMMARY:H Bar\, Guildford
DESCRIPTION:
URL:https://sugarandsax.co.uk/event/h-bar-guildford
LOCATION:H BAR @ The Cannon\, 3 Portsmouth Rd\, Guildford\, GU2 4BL
END:VEVENT
END:VCALENDAR