BEGIN:VCALENDAR
VERSION:2.0
PRODID:-//Sugar &amp; Sax - ECPv6.0.9//NONSGML v1.0//EN
CALSCALE:GREGORIAN
METHOD:PUBLISH
X-WR-CALNAME:Sugar &amp; Sax
X-ORIGINAL-URL:https://sugarandsax.co.uk
X-WR-CALDESC:Events for Sugar &amp; Sax
REFRESH-INTERVAL;VALUE=DURATION:PT1H
X-Robots-Tag:noindex
X-PUBLISHED-TTL:PT1H
BEGIN:VTIMEZONE
TZID:UTC
BEGIN:STANDARD
TZOFFSETFROM:+0000
TZOFFSETTO:+0000
TZNAME:UTC
DTSTART:20250101T000000
END:STANDARD
END:VTIMEZONE
BEGIN:VEVENT
DTSTART;TZID=UTC:20260704T213000
DTEND;TZID=UTC:20260704T213000
DTSTAMP:20260420T012120
CREATED:20260129T100829Z
LAST-MODIFIED:20260129T100829Z
UID:24500-1783200600-1783200600@sugarandsax.co.uk
SUMMARY:The Swan\, Beaconsfield
DESCRIPTION:
URL:https://sugarandsax.co.uk/event/the-swan-beaconsfield-22
LOCATION:The Swan\, Beaconsfield\, London End\, Beaconsfield\, HP9 2JD
END:VEVENT
BEGIN:VEVENT
DTSTART;TZID=UTC:20260703T203000
DTEND;TZID=UTC:20260703T203000
DTSTAMP:20260420T012120
CREATED:20260108T203805Z
LAST-MODIFIED:20260108T203805Z
UID:23988-1783110600-1783110600@sugarandsax.co.uk
SUMMARY:Pews\, Guildford
DESCRIPTION:
URL:https://sugarandsax.co.uk/event/pews-guildford-13
LOCATION:Pews Bar and Courtyard\, 21 Chapel Street\, Guildford\, GU1 3UL
END:VEVENT
BEGIN:VEVENT
DTSTART;TZID=UTC:20260627T213000
DTEND;TZID=UTC:20260627T213000
DTSTAMP:20260420T012120
CREATED:20260129T100740Z
LAST-MODIFIED:20260129T100740Z
UID:24498-1782595800-1782595800@sugarandsax.co.uk
SUMMARY:The Swan\, Beaconsfield
DESCRIPTION:
URL:https://sugarandsax.co.uk/event/the-swan-beaconsfield-21
LOCATION:The Swan\, Beaconsfield\, London End\, Beaconsfield\, HP9 2JD
END:VEVENT
BEGIN:VEVENT
DTSTART;TZID=UTC:20260530T213000
DTEND;TZID=UTC:20260530T213000
DTSTAMP:20260420T012120
CREATED:20260129T100655Z
LAST-MODIFIED:20260129T100655Z
UID:24496-1780176600-1780176600@sugarandsax.co.uk
SUMMARY:The Swan\, Beaconsfield
DESCRIPTION:
URL:https://sugarandsax.co.uk/event/the-swan-beaconsfield-18
LOCATION:The Swan\, Beaconsfield\, London End\, Beaconsfield\, HP9 2JD
END:VEVENT
BEGIN:VEVENT
DTSTART;TZID=UTC:20260529T200000
DTEND;TZID=UTC:20260529T200000
DTSTAMP:20260420T012120
CREATED:20260109T170217Z
LAST-MODIFIED:20260208T142830Z
UID:24012-1780084800-1780084800@sugarandsax.co.uk
SUMMARY:The Swan\, Farnborough
DESCRIPTION:
URL:https://sugarandsax.co.uk/event/the-swan-farnborough-10
LOCATION:The Swan\, Farnborough\, 91 Farnborough Rd\, Farnborough\, Hampshire\, GU14 6TL
END:VEVENT
BEGIN:VEVENT
DTSTART;VALUE=DATE:20260523
DTEND;VALUE=DATE:20260525
DTSTAMP:20260420T012120
CREATED:20251116T112029Z
LAST-MODIFIED:20251116T112029Z
UID:22689-1779505200-1779591599@sugarandsax.co.uk
SUMMARY:Private function\, Camberley
DESCRIPTION:
URL:https://sugarandsax.co.uk/event/private-function-camberley
END:VEVENT
BEGIN:VEVENT
DTSTART;VALUE=DATE:20260522
DTEND;VALUE=DATE:20260524
DTSTAMP:20260420T012120
CREATED:20260413T141931Z
LAST-MODIFIED:20260413T141931Z
UID:26310-1779418800-1779505199@sugarandsax.co.uk
SUMMARY:Private Function\, Farnham
DESCRIPTION:
URL:https://sugarandsax.co.uk/event/private-function-farnham
END:VEVENT
BEGIN:VEVENT
DTSTART;TZID=UTC:20260509T193000
DTEND;TZID=UTC:20260509T193000
DTSTAMP:20260420T012120
CREATED:20260417T105451Z
LAST-MODIFIED:20260417T105839Z
UID:26405-1778355000-1778355000@sugarandsax.co.uk
SUMMARY:Crowne Plaza\, Gerrards Cross
DESCRIPTION:
URL:https://sugarandsax.co.uk/event/crowne-plaza-beaconsfield
LOCATION:Crowne Plaza\, Gerrards Cross\, Oxford Rd\, Beaconsfield\, HP9 2XE
END:VEVENT
BEGIN:VEVENT
DTSTART;TZID=UTC:20260411T213000
DTEND;TZID=UTC:20260411T213000
DTSTAMP:20260420T012120
CREATED:20260224T124139Z
LAST-MODIFIED:20260224T124139Z
UID:25140-1775943000-1775943000@sugarandsax.co.uk
SUMMARY:The Swan\, Beaconsfield
DESCRIPTION:
URL:https://sugarandsax.co.uk/event/the-swan-beaconsfield-27
LOCATION:The Swan\, Beaconsfield\, London End\, Beaconsfield\, HP9 2JD
END:VEVENT
BEGIN:VEVENT
DTSTART;TZID=UTC:20260410T203000
DTEND;TZID=UTC:20260410T203000
DTSTAMP:20260420T012120
CREATED:20260108T203625Z
LAST-MODIFIED:20260108T203625Z
UID:23984-1775853000-1775853000@sugarandsax.co.uk
SUMMARY:Pews\, Guildford
DESCRIPTION:
URL:https://sugarandsax.co.uk/event/pews-guildford-11
LOCATION:Pews Bar and Courtyard\, 21 Chapel Street\, Guildford\, GU1 3UL
END:VEVENT
BEGIN:VEVENT
DTSTART;TZID=UTC:20260404T203000
DTEND;TZID=UTC:20260404T203000
DTSTAMP:20260420T012120
CREATED:20260106T164247Z
LAST-MODIFIED:20260106T164247Z
UID:23926-1775334600-1775334600@sugarandsax.co.uk
SUMMARY:The Red Lion\, Langley
DESCRIPTION:
URL:https://sugarandsax.co.uk/event/the-red-lion-langley-2
LOCATION:The Red Lion\, Langley\, 1 St Mary's Rd\,\, Langley\, Slough\, SL3 7EN
END:VEVENT
BEGIN:VEVENT
DTSTART;TZID=UTC:20260306T203000
DTEND;TZID=UTC:20260306T203000
DTSTAMP:20260420T012120
CREATED:20250807T191127Z
LAST-MODIFIED:20250807T191127Z
UID:20254-1772829000-1772829000@sugarandsax.co.uk
SUMMARY:Pews\, Guildford
DESCRIPTION:
URL:https://sugarandsax.co.uk/event/pews-guildford-10
LOCATION:Pews Bar and Courtyard\, 21 Chapel Street\, Guildford\, GU1 3UL
END:VEVENT
BEGIN:VEVENT
DTSTART;TZID=UTC:20260220T200000
DTEND;TZID=UTC:20260220T200000
DTSTAMP:20260420T012120
CREATED:20260109T170140Z
LAST-MODIFIED:20260109T170140Z
UID:24010-1771617600-1771617600@sugarandsax.co.uk
SUMMARY:The Swan\, Farnborough
DESCRIPTION:
URL:https://sugarandsax.co.uk/event/the-swan-farnborough-9
LOCATION:The Swan\, Farnborough\, 91 Farnborough Rd\, Farnborough\, Hampshire\, GU14 6TL
END:VEVENT
BEGIN:VEVENT
DTSTART;TZID=UTC:20260214T180000
DTEND;TZID=UTC:20260214T180000
DTSTAMP:20260420T012120
CREATED:20250419T093930Z
LAST-MODIFIED:20250419T093930Z
UID:17564-1771092000-1771092000@sugarandsax.co.uk
SUMMARY:Private Function\, Windsor
DESCRIPTION:
URL:https://sugarandsax.co.uk/event/private-function-windsor-3
END:VEVENT
BEGIN:VEVENT
DTSTART;TZID=UTC:20260213T203000
DTEND;TZID=UTC:20260213T203000
DTSTAMP:20260420T012120
CREATED:20251220T194814Z
LAST-MODIFIED:20251220T194814Z
UID:23517-1771014600-1771014600@sugarandsax.co.uk
SUMMARY:Ivy House\, Chalfont St Giles
DESCRIPTION:
URL:https://sugarandsax.co.uk/event/ivy-house-chalfont-st-giles
LOCATION:The Ivy House\, Chalfont St Giles\, London Rd\, Chalfont Saint Giles\, Buckinghamshire\, HP8 4RS
END:VEVENT
BEGIN:VEVENT
DTSTART;TZID=UTC:20260206T203000
DTEND;TZID=UTC:20260206T203000
DTSTAMP:20260420T012120
CREATED:20250807T191051Z
LAST-MODIFIED:20250807T191051Z
UID:20252-1770409800-1770409800@sugarandsax.co.uk
SUMMARY:Pews\, Guildford
DESCRIPTION:
URL:https://sugarandsax.co.uk/event/pews-guildford-9
LOCATION:Pews Bar and Courtyard\, 21 Chapel Street\, Guildford\, GU1 3UL
END:VEVENT
BEGIN:VEVENT
DTSTART;TZID=UTC:20260124T000000
DTEND;TZID=UTC:20260124T000000
DTSTAMP:20260420T012120
CREATED:20251029T154622Z
LAST-MODIFIED:20251029T154724Z
UID:22257-1769212800-1769212800@sugarandsax.co.uk
SUMMARY:Bier Keller\, Bracknell
DESCRIPTION:
URL:https://sugarandsax.co.uk/event/bier-keller-bracknell-2
LOCATION:The Bier Keller\, Bracknell\, Binfield\, Bracknell\, RG12 8TF
END:VEVENT
BEGIN:VEVENT
DTSTART;VALUE=DATE:20260116
DTEND;VALUE=DATE:20260118
DTSTAMP:20260420T012120
CREATED:20260104T172436Z
LAST-MODIFIED:20260104T172436Z
UID:23876-1768532400-1768618799@sugarandsax.co.uk
SUMMARY:Windsor Racecourse
DESCRIPTION:
URL:https://sugarandsax.co.uk/event/windsor-racecourse
END:VEVENT
BEGIN:VEVENT
DTSTART;TZID=UTC:20251220T200000
DTEND;TZID=UTC:20251220T200000
DTSTAMP:20260420T012120
CREATED:20250907T114657Z
LAST-MODIFIED:20250907T114657Z
UID:20998-1766260800-1766260800@sugarandsax.co.uk
SUMMARY:The Waterside\, Woodley
DESCRIPTION:
URL:https://sugarandsax.co.uk/event/the-waterside-woodley
LOCATION:The Waterside\, Woodley\, Thatchers Tavern\, Fairwater Dr\, Woodley\, Reading\, RG5 3EZ
END:VEVENT
BEGIN:VEVENT
DTSTART;TZID=UTC:20251218T203000
DTEND;TZID=UTC:20251218T203000
DTSTAMP:20260420T012120
CREATED:20250127T151906Z
LAST-MODIFIED:20250127T151906Z
UID:15533-1766089800-1766089800@sugarandsax.co.uk
SUMMARY:KING WILLIAM IV\, WEST HORSLEY
DESCRIPTION:
URL:https://sugarandsax.co.uk/event/king-william-iv-west-horsley-2
LOCATION:King William IV\, West Horsley\, 83 The St\, West Horsley\, Leatherhead\, KT24 6BG
END:VEVENT
BEGIN:VEVENT
DTSTART;TZID=UTC:20251213T200000
DTEND;TZID=UTC:20251213T200000
DTSTAMP:20260420T012120
CREATED:20250312T223116Z
LAST-MODIFIED:20250312T223116Z
UID:16651-1765656000-1765656000@sugarandsax.co.uk
SUMMARY:The Swan\, Beaconsfield
DESCRIPTION:
URL:https://sugarandsax.co.uk/event/the-swan-beaconsfield-19
LOCATION:The Swan\, Beaconsfield\, London End\, Beaconsfield\, HP9 2JD
END:VEVENT
BEGIN:VEVENT
DTSTART;TZID=UTC:20251212T203000
DTEND;TZID=UTC:20251212T203000
DTSTAMP:20260420T012120
CREATED:20250807T191008Z
LAST-MODIFIED:20250807T191008Z
UID:20250-1765571400-1765571400@sugarandsax.co.uk
SUMMARY:Pews\, Guildford
DESCRIPTION:
URL:https://sugarandsax.co.uk/event/pews-guildford-7
LOCATION:Pews Bar and Courtyard\, 21 Chapel Street\, Guildford\, GU1 3UL
END:VEVENT
BEGIN:VEVENT
DTSTART;TZID=UTC:20251115T200000
DTEND;TZID=UTC:20251115T200000
DTSTAMP:20260420T012120
CREATED:20250314T160155Z
LAST-MODIFIED:20250314T160230Z
UID:16695-1763236800-1763236800@sugarandsax.co.uk
SUMMARY:The Swan\, Beaconsfield
DESCRIPTION:
URL:https://sugarandsax.co.uk/event/the-swan-beaconsfield-20
LOCATION:The Swan\, Beaconsfield\, London End\, Beaconsfield\, HP9 2JD
END:VEVENT
BEGIN:VEVENT
DTSTART;TZID=UTC:20251114T200000
DTEND;TZID=UTC:20251114T200000
DTSTAMP:20260420T012120
CREATED:20240703T181656Z
LAST-MODIFIED:20240902T074811Z
UID:10418-1763150400-1763150400@sugarandsax.co.uk
SUMMARY:The Swan\, Farnborough
DESCRIPTION:
URL:https://sugarandsax.co.uk/event/the-swan-farnborough-8
LOCATION:The Swan\, Farnborough\, 91 Farnborough Rd\, Farnborough\, Hampshire\, GU14 6TL
END:VEVENT
BEGIN:VEVENT
DTSTART;TZID=UTC:20251031T203000
DTEND;TZID=UTC:20251031T203000
DTSTAMP:20260420T012120
CREATED:20250624T070714Z
LAST-MODIFIED:20250624T070714Z
UID:19156-1761942600-1761942600@sugarandsax.co.uk
SUMMARY:The Hare & Hounds\, West End
DESCRIPTION:
URL:https://sugarandsax.co.uk/event/the-hare-hounds-west-end
LOCATION:Hare & Hounds\, Brentmoor Rd\, West End\, Woking\, GU24 9QG
END:VEVENT
BEGIN:VEVENT
DTSTART;TZID=UTC:20251026T140000
DTEND;TZID=UTC:20251026T140000
DTSTAMP:20260420T012120
CREATED:20240816T100334Z
LAST-MODIFIED:20240902T074842Z
UID:11498-1761487200-1761487200@sugarandsax.co.uk
SUMMARY:Wraysbury Village Club
DESCRIPTION:
URL:https://sugarandsax.co.uk/event/wraysbury-village-club-3
LOCATION:Wraysbury Village Club\, Wraysbury Village Club\, 39 The Green\, Wraysbury\, Staines\, TW19 5NA
END:VEVENT
BEGIN:VEVENT
DTSTART;TZID=UTC:20251018T200000
DTEND;TZID=UTC:20251018T200000
DTSTAMP:20260420T012120
CREATED:20250312T222356Z
LAST-MODIFIED:20250312T222356Z
UID:16643-1760817600-1760817600@sugarandsax.co.uk
SUMMARY:The Swan\, Beaconsfield
DESCRIPTION:
URL:https://sugarandsax.co.uk/event/the-swan-beaconsfield-16
LOCATION:The Swan\, Beaconsfield\, London End\, Beaconsfield\, HP9 2JD
END:VEVENT
BEGIN:VEVENT
DTSTART;TZID=UTC:20251003T190000
DTEND;TZID=UTC:20251003T190000
DTSTAMP:20260420T012120
CREATED:20250212T192042Z
LAST-MODIFIED:20250212T192042Z
UID:15939-1759518000-1759518000@sugarandsax.co.uk
SUMMARY:The Coach House\, Wooburn
DESCRIPTION:
URL:https://sugarandsax.co.uk/event/the-coach-house-wooburn
LOCATION:The Coach House\, Wooburn\, 24 The Green\, Wooburn\, Buckinghamshire\, HP10 OEJ
END:VEVENT
BEGIN:VEVENT
DTSTART;TZID=UTC:20250927T203000
DTEND;TZID=UTC:20250927T203000
DTSTAMP:20260420T012120
CREATED:20250211T174258Z
LAST-MODIFIED:20250211T174258Z
UID:15910-1759005000-1759005000@sugarandsax.co.uk
SUMMARY:The Red Lion\, Langley
DESCRIPTION:
URL:https://sugarandsax.co.uk/event/the-red-lion-langley
LOCATION:The Red Lion\, Langley\, 1 St Mary's Rd\,\, Langley\, Slough\, SL3 7EN
END:VEVENT
BEGIN:VEVENT
DTSTART;VALUE=DATE:20250913
DTEND;VALUE=DATE:20250915
DTSTAMP:20260420T012120
CREATED:20250217T084905Z
LAST-MODIFIED:20250217T084905Z
UID:16052-1757732400-1757818799@sugarandsax.co.uk
SUMMARY:Private Function\, Sunbury
DESCRIPTION:
URL:https://sugarandsax.co.uk/event/private-function-sunbury
END:VEVENT
END:VCALENDAR