BEGIN:VCALENDAR
VERSION:2.0
PRODID:-//Sugar &amp; Sax - ECPv6.0.9//NONSGML v1.0//EN
CALSCALE:GREGORIAN
METHOD:PUBLISH
X-WR-CALNAME:Sugar &amp; Sax
X-ORIGINAL-URL:https://sugarandsax.co.uk
X-WR-CALDESC:Events for Sugar &amp; Sax
REFRESH-INTERVAL;VALUE=DURATION:PT1H
X-Robots-Tag:noindex
X-PUBLISHED-TTL:PT1H
BEGIN:VTIMEZONE
TZID:UTC
BEGIN:STANDARD
TZOFFSETFROM:+0000
TZOFFSETTO:+0000
TZNAME:UTC
DTSTART:20220101T000000
END:STANDARD
END:VTIMEZONE
BEGIN:VEVENT
DTSTART;TZID=UTC:20221022T223000
DTEND;TZID=UTC:20221022T235900
DTSTAMP:20260422T221509
CREATED:20220706T161240Z
LAST-MODIFIED:20220706T161240Z
UID:730-1666477800-1666483140@sugarandsax.co.uk
SUMMARY:The Old Ticket Hall\, Windsor
DESCRIPTION:
URL:https://sugarandsax.co.uk/event/the-old-ticket-hall-windsor-10
LOCATION:The Old Ticket Hall\, Farm Yard\, Windsor\, SL4 1QL
END:VEVENT
BEGIN:VEVENT
DTSTART;TZID=UTC:20221021T200000
DTEND;TZID=UTC:20221021T220000
DTSTAMP:20260422T221509
CREATED:20220708T145654Z
LAST-MODIFIED:20220708T145654Z
UID:739-1666382400-1666389600@sugarandsax.co.uk
SUMMARY:The Rising Sun\, Hurley
DESCRIPTION:
URL:https://sugarandsax.co.uk/event/the-rising-sun-hurley
LOCATION:The Rising Sun\, Hurley\, High Street\, Hurley\, Berkshire\, SL6 5LT
END:VEVENT
BEGIN:VEVENT
DTSTART;TZID=UTC:20221015T203000
DTEND;TZID=UTC:20221015T230000
DTSTAMP:20260422T221509
CREATED:20220506T143834Z
LAST-MODIFIED:20220506T143834Z
UID:692-1665865800-1665874800@sugarandsax.co.uk
SUMMARY:Henry VI\, Eton
DESCRIPTION:
URL:https://sugarandsax.co.uk/event/henry-vi-eton-3
LOCATION:Henry VI\, Eton\, 37 High St\, Eton\, Windsor\, SL4 6BD\, United Kingdom
END:VEVENT
BEGIN:VEVENT
DTSTART;TZID=UTC:20221014T190000
DTEND;TZID=UTC:20221014T210000
DTSTAMP:20260422T221509
CREATED:20220421T132347Z
LAST-MODIFIED:20221009T123243Z
UID:679-1665774000-1665781200@sugarandsax.co.uk
SUMMARY:The Golden Ball\, Maidenhead
DESCRIPTION:
URL:https://sugarandsax.co.uk/event/the-greyhound-inn-chalfont-st-peter
LOCATION:The Golden Ball\, 2 Golden Ball Lane\, Pinkneys Green\, Maidenhead\, SL6 6NW
END:VEVENT
BEGIN:VEVENT
DTSTART;TZID=UTC:20221008T200000
DTEND;TZID=UTC:20221008T233000
DTSTAMP:20260422T221509
CREATED:20220208T095441Z
LAST-MODIFIED:20220922T085313Z
UID:642-1665259200-1665271800@sugarandsax.co.uk
SUMMARY:The Golden Ball\, Maidenhead
DESCRIPTION:
URL:https://sugarandsax.co.uk/event/private-event-farnborough
LOCATION:The Golden Ball\, 2 Golden Ball Lane\, Pinkneys Green\, Maidenhead\, SL6 6NW
END:VEVENT
BEGIN:VEVENT
DTSTART;TZID=UTC:20220924T150000
DTEND;TZID=UTC:20220924T170000
DTSTAMP:20260422T221509
CREATED:20220726T132128Z
LAST-MODIFIED:20220726T132128Z
UID:754-1664031600-1664038800@sugarandsax.co.uk
SUMMARY:Private Function\, Maidenhead
DESCRIPTION:
URL:https://sugarandsax.co.uk/event/private-function-maidenhead
END:VEVENT
BEGIN:VEVENT
DTSTART;TZID=UTC:20220923T200000
DTEND;TZID=UTC:20220923T233000
DTSTAMP:20260422T221509
CREATED:20220524T141025Z
LAST-MODIFIED:20220524T141025Z
UID:697-1663963200-1663975800@sugarandsax.co.uk
SUMMARY:Cricketers\, Yateley
DESCRIPTION:
URL:https://sugarandsax.co.uk/event/cricketers-yateley-3
LOCATION:Cricketers\, Yateley\, Cricket Hill Ln\, Yateley\, GU46 6BA
END:VEVENT
BEGIN:VEVENT
DTSTART;TZID=UTC:20220910T223000
DTEND;TZID=UTC:20220910T235900
DTSTAMP:20260422T221509
CREATED:20220123T221516Z
LAST-MODIFIED:20220123T221516Z
UID:521-1662849000-1662854340@sugarandsax.co.uk
SUMMARY:The Old Ticket Hall\, Windsor
DESCRIPTION:
URL:https://sugarandsax.co.uk/event/the-old-ticket-hall-windsor-5
LOCATION:The Old Ticket Hall\, Farm Yard\, Windsor\, SL4 1QL
END:VEVENT
BEGIN:VEVENT
DTSTART;TZID=UTC:20220909T190000
DTEND;TZID=UTC:20220909T223000
DTSTAMP:20260422T221509
CREATED:20220807T195021Z
LAST-MODIFIED:20220807T195021Z
UID:763-1662750000-1662762600@sugarandsax.co.uk
SUMMARY:The Golden Ball\, Maidenhead
DESCRIPTION:
URL:https://sugarandsax.co.uk/event/the-golden-ball-maidenhead-2
LOCATION:The Golden Ball\, 2 Golden Ball Lane\, Pinkneys Green\, Maidenhead\, SL6 6NW
END:VEVENT
BEGIN:VEVENT
DTSTART;TZID=UTC:20220903T210000
DTEND;TZID=UTC:20220903T233000
DTSTAMP:20260422T221509
CREATED:20220418T133212Z
LAST-MODIFIED:20220418T133212Z
UID:671-1662238800-1662247800@sugarandsax.co.uk
SUMMARY:Wishing Well\, Reading
DESCRIPTION:
URL:https://sugarandsax.co.uk/event/wishing-well-reading
LOCATION:Wishing Well\, Reading\, 280 Oxford Rd\, Reading\, RG30 1AD
END:VEVENT
BEGIN:VEVENT
DTSTART;TZID=UTC:20220902T190000
DTEND;TZID=UTC:20220902T223000
DTSTAMP:20260422T221509
CREATED:20220807T194843Z
LAST-MODIFIED:20220807T194843Z
UID:761-1662145200-1662157800@sugarandsax.co.uk
SUMMARY:The Golden Ball\, Maidenhead
DESCRIPTION:
URL:https://sugarandsax.co.uk/event/the-golden-ball-maidenhead
LOCATION:The Golden Ball\, 2 Golden Ball Lane\, Pinkneys Green\, Maidenhead\, SL6 6NW
END:VEVENT
BEGIN:VEVENT
DTSTART;TZID=UTC:20220826T203000
DTEND;TZID=UTC:20220826T233000
DTSTAMP:20260422T221509
CREATED:20220131T183219Z
LAST-MODIFIED:20220131T183219Z
UID:629-1661545800-1661556600@sugarandsax.co.uk
SUMMARY:PEWS BAR\, GUILDFORD
DESCRIPTION:
URL:https://sugarandsax.co.uk/event/pews-bar-guildford-5
LOCATION:Pews Bar and Courtyard\, 21 Chapel Street\, Guildford\, GU1 3UL
END:VEVENT
BEGIN:VEVENT
DTSTART;TZID=UTC:20220825T213000
DTEND;TZID=UTC:20220825T233000
DTSTAMP:20260422T221509
CREATED:20220714T124340Z
LAST-MODIFIED:20220714T124340Z
UID:745-1661463000-1661470200@sugarandsax.co.uk
SUMMARY:The Swan\, Beaconsfield
DESCRIPTION:
URL:https://sugarandsax.co.uk/event/the-swan-beaconsfield
LOCATION:The Swan\, Beaconsfield\, London End\, Beaconsfield\, HP9 2JD
END:VEVENT
BEGIN:VEVENT
DTSTART;TZID=UTC:20220820T223000
DTEND;TZID=UTC:20220820T235900
DTSTAMP:20260422T221509
CREATED:20220123T221409Z
LAST-MODIFIED:20220123T221409Z
UID:519-1661034600-1661039940@sugarandsax.co.uk
SUMMARY:The Old Ticket Hall\, Windsor
DESCRIPTION:
URL:https://sugarandsax.co.uk/event/the-old-ticket-hall-windsor-4
LOCATION:The Old Ticket Hall\, Farm Yard\, Windsor\, SL4 1QL
END:VEVENT
BEGIN:VEVENT
DTSTART;TZID=UTC:20220817T190000
DTEND;TZID=UTC:20220817T223000
DTSTAMP:20260422T221509
CREATED:20220713T100205Z
LAST-MODIFIED:20220801T101212Z
UID:743-1660762800-1660775400@sugarandsax.co.uk
SUMMARY:Private Function\, Wokingham
DESCRIPTION:
URL:https://sugarandsax.co.uk/event/private-function-wokingham
END:VEVENT
BEGIN:VEVENT
DTSTART;TZID=UTC:20220813T203000
DTEND;TZID=UTC:20220813T230000
DTSTAMP:20260422T221509
CREATED:20220506T143740Z
LAST-MODIFIED:20220506T143740Z
UID:690-1660422600-1660431600@sugarandsax.co.uk
SUMMARY:Henry VI\, Eton
DESCRIPTION:
URL:https://sugarandsax.co.uk/event/henry-vi-eton-2
LOCATION:Henry VI\, Eton\, 37 High St\, Eton\, Windsor\, SL4 6BD\, United Kingdom
END:VEVENT
BEGIN:VEVENT
DTSTART;TZID=UTC:20220806T190000
DTEND;TZID=UTC:20220806T223000
DTSTAMP:20260422T221509
CREATED:20220123T221300Z
LAST-MODIFIED:20220805T123756Z
UID:517-1659812400-1659825000@sugarandsax.co.uk
SUMMARY:The Golden Ball\, Maidenhead
DESCRIPTION:
URL:https://sugarandsax.co.uk/event/the-bolton-arms-old-basing-2
LOCATION:The Golden Ball\, 2 Golden Ball Lane\, Pinkneys Green\, Maidenhead\, SL6 6NW
END:VEVENT
BEGIN:VEVENT
DTSTART;TZID=UTC:20220805T210000
DTEND;TZID=UTC:20220805T230000
DTSTAMP:20260422T221509
CREATED:20220228T200438Z
LAST-MODIFIED:20220228T200438Z
UID:647-1659733200-1659740400@sugarandsax.co.uk
SUMMARY:PEWS BAR\, GUILDFORD
DESCRIPTION:
URL:https://sugarandsax.co.uk/event/pews-bar-guildford-7
LOCATION:Pews Bar and Courtyard\, 21 Chapel Street\, Guildford\, GU1 3UL
END:VEVENT
BEGIN:VEVENT
DTSTART;TZID=UTC:20220730T190000
DTEND;TZID=UTC:20220730T235900
DTSTAMP:20260422T221509
CREATED:20220123T221043Z
LAST-MODIFIED:20220123T221144Z
UID:515-1659207600-1659225540@sugarandsax.co.uk
SUMMARY:The Crown\, Egham
DESCRIPTION:
URL:https://sugarandsax.co.uk/event/the-crown-egham-3
LOCATION:The Crown\, Egham\, 38 High St\, Egham\, TW20 9DP
END:VEVENT
BEGIN:VEVENT
DTSTART;TZID=UTC:20220729T203000
DTEND;TZID=UTC:20220729T233000
DTSTAMP:20260422T221509
CREATED:20220429T160307Z
LAST-MODIFIED:20220429T160307Z
UID:687-1659126600-1659137400@sugarandsax.co.uk
SUMMARY:The Royal Windsor
DESCRIPTION:
URL:https://sugarandsax.co.uk/event/the-royal-windsor
LOCATION:The Royal Windsor\, Datchet Road\, Windsor\, SL41QD
END:VEVENT
BEGIN:VEVENT
DTSTART;TZID=UTC:20220724T140000
DTEND;TZID=UTC:20220724T160000
DTSTAMP:20260422T221509
CREATED:20220720T102811Z
LAST-MODIFIED:20220720T102811Z
UID:751-1658671200-1658678400@sugarandsax.co.uk
SUMMARY:Private Party\, Reading
DESCRIPTION:
URL:https://sugarandsax.co.uk/event/private-party-reading
END:VEVENT
BEGIN:VEVENT
DTSTART;TZID=UTC:20220723T203000
DTEND;TZID=UTC:20220723T233000
DTSTAMP:20260422T221509
CREATED:20220328T145146Z
LAST-MODIFIED:20220328T145146Z
UID:665-1658608200-1658619000@sugarandsax.co.uk
SUMMARY:The White Hart\, Tongham
DESCRIPTION:
URL:https://sugarandsax.co.uk/event/the-white-hart-tongham-3
LOCATION:The White Hart\, Tongham\, 76 The Street\, Tongham\, GU10 1DH
END:VEVENT
BEGIN:VEVENT
DTSTART;TZID=UTC:20220722T203000
DTEND;TZID=UTC:20220722T233000
DTSTAMP:20260422T221509
CREATED:20220123T223118Z
LAST-MODIFIED:20220225T181237Z
UID:530-1658521800-1658532600@sugarandsax.co.uk
SUMMARY:The Bier Keller\, Bracknell
DESCRIPTION:
URL:https://sugarandsax.co.uk/event/the-bier-keller-bracknell
LOCATION:The Bier Keller\, Bracknell\, Binfield\, Bracknell\, RG12 8TF
END:VEVENT
BEGIN:VEVENT
DTSTART;TZID=UTC:20220716T170000
DTEND;TZID=UTC:20220716T190000
DTSTAMP:20260422T221509
CREATED:20220608T135153Z
LAST-MODIFIED:20220608T135153Z
UID:710-1657990800-1657998000@sugarandsax.co.uk
SUMMARY:Private Event\, Sunningdale
DESCRIPTION:
URL:https://sugarandsax.co.uk/event/private-event-sunningdale
END:VEVENT
BEGIN:VEVENT
DTSTART;TZID=UTC:20220715T203000
DTEND;TZID=UTC:20220715T230000
DTSTAMP:20260422T221509
CREATED:20220203T202057Z
LAST-MODIFIED:20220203T202057Z
UID:635-1657917000-1657926000@sugarandsax.co.uk
SUMMARY:Pews Bar\, Guildford
DESCRIPTION:
URL:https://sugarandsax.co.uk/event/pews-bar-guildford-6
LOCATION:Pews Bar and Courtyard\, 21 Chapel Street\, Guildford\, GU1 3UL
END:VEVENT
BEGIN:VEVENT
DTSTART;TZID=UTC:20220708T190000
DTEND;TZID=UTC:20220708T233000
DTSTAMP:20260422T221509
CREATED:20220616T200720Z
LAST-MODIFIED:20220616T200720Z
UID:712-1657306800-1657323000@sugarandsax.co.uk
SUMMARY:Private Event\, Guildford
DESCRIPTION:
URL:https://sugarandsax.co.uk/event/private-event-guildford
END:VEVENT
BEGIN:VEVENT
DTSTART;TZID=UTC:20220702T223000
DTEND;TZID=UTC:20220702T235900
DTSTAMP:20260422T221509
CREATED:20220123T220953Z
LAST-MODIFIED:20220123T220953Z
UID:513-1656801000-1656806340@sugarandsax.co.uk
SUMMARY:The Old Ticket Hall\, Windsor
DESCRIPTION:
URL:https://sugarandsax.co.uk/event/the-old-ticket-hall-windsor-3
LOCATION:The Old Ticket Hall\, Farm Yard\, Windsor\, SL4 1QL
END:VEVENT
BEGIN:VEVENT
DTSTART;TZID=UTC:20220624T200000
DTEND;TZID=UTC:20220624T203000
DTSTAMP:20260422T221509
CREATED:20220309T232948Z
LAST-MODIFIED:20220309T232948Z
UID:653-1656100800-1656102600@sugarandsax.co.uk
SUMMARY:Cricketers\, Yateley
DESCRIPTION:
URL:https://sugarandsax.co.uk/event/cricketers-yateley-2
LOCATION:Cricketers\, Yateley\, Cricket Hill Ln\, Yateley\, GU46 6BA
END:VEVENT
BEGIN:VEVENT
DTSTART;TZID=UTC:20220618T190000
DTEND;TZID=UTC:20220618T190000
DTSTAMP:20260422T221509
CREATED:20220126T182330Z
LAST-MODIFIED:20220527T195815Z
UID:563-1655578800-1655578800@sugarandsax.co.uk
SUMMARY:Private Event\, Worplesdon
DESCRIPTION:
URL:https://sugarandsax.co.uk/event/private-event
END:VEVENT
BEGIN:VEVENT
DTSTART;TZID=UTC:20220618T140000
DTEND;TZID=UTC:20220618T170000
DTSTAMP:20260422T221509
CREATED:20220527T195603Z
LAST-MODIFIED:20220527T195603Z
UID:700-1655560800-1655571600@sugarandsax.co.uk
SUMMARY:Private Function\, Chertsey
DESCRIPTION:
URL:https://sugarandsax.co.uk/event/private-function-chertsey
END:VEVENT
END:VCALENDAR