BEGIN:VCALENDAR
VERSION:2.0
PRODID:-//Sugar &amp; Sax - ECPv6.0.9//NONSGML v1.0//EN
CALSCALE:GREGORIAN
METHOD:PUBLISH
X-WR-CALNAME:Sugar &amp; Sax
X-ORIGINAL-URL:https://sugarandsax.co.uk
X-WR-CALDESC:Events for Sugar &amp; Sax
REFRESH-INTERVAL;VALUE=DURATION:PT1H
X-Robots-Tag:noindex
X-PUBLISHED-TTL:PT1H
BEGIN:VTIMEZONE
TZID:UTC
BEGIN:STANDARD
TZOFFSETFROM:+0000
TZOFFSETTO:+0000
TZNAME:UTC
DTSTART:20220101T000000
END:STANDARD
END:VTIMEZONE
BEGIN:VEVENT
DTSTART;TZID=UTC:20221217T200000
DTEND;TZID=UTC:20221217T233000
DTSTAMP:20260422T001907
CREATED:20220606T165655Z
LAST-MODIFIED:20220606T165655Z
UID:708-1671307200-1671319800@sugarandsax.co.uk
SUMMARY:Henry VI\, Eton
DESCRIPTION:
URL:https://sugarandsax.co.uk/event/henry-vi-eton-6
LOCATION:Henry VI\, Eton\, 37 High St\, Eton\, Windsor\, SL4 6BD\, United Kingdom
END:VEVENT
BEGIN:VEVENT
DTSTART;TZID=UTC:20221216T203000
DTEND;TZID=UTC:20221216T223000
DTSTAMP:20260422T001907
CREATED:20220704T193732Z
LAST-MODIFIED:20220704T193732Z
UID:716-1671222600-1671229800@sugarandsax.co.uk
SUMMARY:PEWS BAR\, GUILDFORD
DESCRIPTION:
URL:https://sugarandsax.co.uk/event/pews-bar-guildford-9
LOCATION:Pews Bar and Courtyard\, 21 Chapel Street\, Guildford\, GU1 3UL
END:VEVENT
BEGIN:VEVENT
DTSTART;TZID=UTC:20221210T220000
DTEND;TZID=UTC:20221210T235900
DTSTAMP:20260422T001907
CREATED:20220706T160721Z
LAST-MODIFIED:20220706T160721Z
UID:726-1670709600-1670716740@sugarandsax.co.uk
SUMMARY:The Old Ticket Hall\, Windsor
DESCRIPTION:
URL:https://sugarandsax.co.uk/event/the-old-ticket-hall-windsor-8
LOCATION:The Old Ticket Hall\, Farm Yard\, Windsor\, SL4 1QL
END:VEVENT
BEGIN:VEVENT
DTSTART;TZID=UTC:20221209T193000
DTEND;TZID=UTC:20221209T220000
DTSTAMP:20260422T001907
CREATED:20220421T132451Z
LAST-MODIFIED:20220421T134235Z
UID:682-1670614200-1670623200@sugarandsax.co.uk
SUMMARY:The Greyhound Inn\, Chalfont St. Peter
DESCRIPTION:
URL:https://sugarandsax.co.uk/event/the-greyhound-inn-chalfont-st-peter-2
LOCATION:The Greyhound\, Chalfont St. Peter\, High St\, Chalfont St Peter\, Gerrards Cross\, SL9 9RA\, United Kingdom
END:VEVENT
BEGIN:VEVENT
DTSTART;VALUE=DATE:20221208
DTEND;VALUE=DATE:20221210
DTSTAMP:20260422T001907
CREATED:20220913T162618Z
LAST-MODIFIED:20220913T162618Z
UID:801-1670468400-1670554799@sugarandsax.co.uk
SUMMARY:Private Event\, London
DESCRIPTION:
URL:https://sugarandsax.co.uk/event/private-event-london
END:VEVENT
BEGIN:VEVENT
DTSTART;TZID=UTC:20221203T210000
DTEND;TZID=UTC:20221203T233000
DTSTAMP:20260422T001907
CREATED:20220418T133304Z
LAST-MODIFIED:20220418T133304Z
UID:674-1670101200-1670110200@sugarandsax.co.uk
SUMMARY:Wishing Well\, Reading
DESCRIPTION:
URL:https://sugarandsax.co.uk/event/wishing-well-reading-2
LOCATION:Wishing Well\, Reading\, 280 Oxford Rd\, Reading\, RG30 1AD
END:VEVENT
BEGIN:VEVENT
DTSTART;TZID=UTC:20221202T190000
DTEND;TZID=UTC:20221202T223000
DTSTAMP:20260422T001907
CREATED:20220807T195421Z
LAST-MODIFIED:20220807T195421Z
UID:769-1670007600-1670020200@sugarandsax.co.uk
SUMMARY:The Golden Ball\, Maidenhead
DESCRIPTION:
URL:https://sugarandsax.co.uk/event/the-golden-ball-maidenhead-5
LOCATION:The Golden Ball\, 2 Golden Ball Lane\, Pinkneys Green\, Maidenhead\, SL6 6NW
END:VEVENT
BEGIN:VEVENT
DTSTART;TZID=UTC:20221119T223000
DTEND;TZID=UTC:20221119T235900
DTSTAMP:20260422T001907
CREATED:20220706T161757Z
LAST-MODIFIED:20220706T161757Z
UID:737-1668897000-1668902340@sugarandsax.co.uk
SUMMARY:The Old Ticket Hall\, Windsor
DESCRIPTION:
URL:https://sugarandsax.co.uk/event/the-old-ticket-hall-windsor-11
LOCATION:The Old Ticket Hall\, Farm Yard\, Windsor\, SL4 1QL
END:VEVENT
BEGIN:VEVENT
DTSTART;TZID=UTC:20221118T203000
DTEND;TZID=UTC:20221118T223000
DTSTAMP:20260422T001907
CREATED:20220704T193550Z
LAST-MODIFIED:20220704T194223Z
UID:714-1668803400-1668810600@sugarandsax.co.uk
SUMMARY:PEWS BAR\, GUILDFORD
DESCRIPTION:
URL:https://sugarandsax.co.uk/event/pews-bar-guildford-8
LOCATION:Pews Bar and Courtyard\, 21 Chapel Street\, Guildford\, GU1 3UL
END:VEVENT
BEGIN:VEVENT
DTSTART;TZID=UTC:20221113T203000
DTEND;TZID=UTC:20221113T223000
DTSTAMP:20260422T001907
CREATED:20220706T161614Z
LAST-MODIFIED:20220706T161614Z
UID:734-1668371400-1668378600@sugarandsax.co.uk
SUMMARY:The Acre\, Windsor
DESCRIPTION:
URL:https://sugarandsax.co.uk/event/the-acre-windsor-4
LOCATION:The Acre\, Windsor\, Victoria Street\, Windsor\, United Kingdom
END:VEVENT
BEGIN:VEVENT
DTSTART;TZID=UTC:20221112T210000
DTEND;TZID=UTC:20221112T210000
DTSTAMP:20260422T001907
CREATED:20220817T133856Z
LAST-MODIFIED:20220817T133856Z
UID:776-1668286800-1668286800@sugarandsax.co.uk
SUMMARY:The White Hart\, Tongham
DESCRIPTION:
URL:https://sugarandsax.co.uk/event/the-white-hart-tongham-2
LOCATION:The White Hart\, Tongham\, 76 The Street\, Tongham\, GU10 1DH
END:VEVENT
BEGIN:VEVENT
DTSTART;TZID=UTC:20221111T190000
DTEND;TZID=UTC:20221111T223000
DTSTAMP:20260422T001907
CREATED:20220807T195248Z
LAST-MODIFIED:20220807T195248Z
UID:767-1668193200-1668205800@sugarandsax.co.uk
SUMMARY:The Golden Ball\, Maidenhead
DESCRIPTION:
URL:https://sugarandsax.co.uk/event/the-golden-ball-maidenhead-4
LOCATION:The Golden Ball\, 2 Golden Ball Lane\, Pinkneys Green\, Maidenhead\, SL6 6NW
END:VEVENT
BEGIN:VEVENT
DTSTART;TZID=UTC:20221110T200000
DTEND;TZID=UTC:20221110T230000
DTSTAMP:20260422T001907
CREATED:20221001T130220Z
LAST-MODIFIED:20221001T130220Z
UID:816-1668110400-1668121200@sugarandsax.co.uk
SUMMARY:The Duke Of Clarence\, Marlow
DESCRIPTION:
URL:https://sugarandsax.co.uk/event/the-duke-of-clarence-marlow-2
LOCATION:The Duke Of Clarence\, Marlow\, 56-58 High St\, Marlow\, SL7 1AH
END:VEVENT
BEGIN:VEVENT
DTSTART;TZID=UTC:20221030T140000
DTEND;TZID=UTC:20221030T163000
DTSTAMP:20260422T001907
CREATED:20220808T142205Z
LAST-MODIFIED:20220808T142205Z
UID:772-1667138400-1667147400@sugarandsax.co.uk
SUMMARY:Wraysbury Village Club\, Wraysbury
DESCRIPTION:
URL:https://sugarandsax.co.uk/event/wraysbury-village-club-wraysbury
LOCATION:Wraysbury Village Club\, Wraysbury Village Club\, 39 The Green\, Wraysbury\, Staines\, TW19 5NA
END:VEVENT
BEGIN:VEVENT
DTSTART;TZID=UTC:20221029T200000
DTEND;TZID=UTC:20221029T233000
DTSTAMP:20260422T001907
CREATED:20220606T165537Z
LAST-MODIFIED:20220606T165537Z
UID:706-1667073600-1667086200@sugarandsax.co.uk
SUMMARY:Henry VI\, Eton
DESCRIPTION:
URL:https://sugarandsax.co.uk/event/henry-vi-eton-5
LOCATION:Henry VI\, Eton\, 37 High St\, Eton\, Windsor\, SL4 6BD\, United Kingdom
END:VEVENT
BEGIN:VEVENT
DTSTART;TZID=UTC:20221028T190000
DTEND;TZID=UTC:20221028T223000
DTSTAMP:20260422T001907
CREATED:20220807T195137Z
LAST-MODIFIED:20220807T195137Z
UID:765-1666983600-1666996200@sugarandsax.co.uk
SUMMARY:The Golden Ball\, Maidenhead
DESCRIPTION:
URL:https://sugarandsax.co.uk/event/the-golden-ball-maidenhead-3
LOCATION:The Golden Ball\, 2 Golden Ball Lane\, Pinkneys Green\, Maidenhead\, SL6 6NW
END:VEVENT
BEGIN:VEVENT
DTSTART;TZID=UTC:20221027T213000
DTEND;TZID=UTC:20221027T233000
DTSTAMP:20260422T001907
CREATED:20220714T124431Z
LAST-MODIFIED:20220714T124431Z
UID:748-1666906200-1666913400@sugarandsax.co.uk
SUMMARY:The Swan\, Beaconsfield
DESCRIPTION:
URL:https://sugarandsax.co.uk/event/the-swan-beaconsfield-2
LOCATION:The Swan\, Beaconsfield\, London End\, Beaconsfield\, HP9 2JD
END:VEVENT
BEGIN:VEVENT
DTSTART;TZID=UTC:20221022T223000
DTEND;TZID=UTC:20221022T235900
DTSTAMP:20260422T001907
CREATED:20220706T161240Z
LAST-MODIFIED:20220706T161240Z
UID:730-1666477800-1666483140@sugarandsax.co.uk
SUMMARY:The Old Ticket Hall\, Windsor
DESCRIPTION:
URL:https://sugarandsax.co.uk/event/the-old-ticket-hall-windsor-10
LOCATION:The Old Ticket Hall\, Farm Yard\, Windsor\, SL4 1QL
END:VEVENT
BEGIN:VEVENT
DTSTART;TZID=UTC:20221021T200000
DTEND;TZID=UTC:20221021T220000
DTSTAMP:20260422T001907
CREATED:20220708T145654Z
LAST-MODIFIED:20220708T145654Z
UID:739-1666382400-1666389600@sugarandsax.co.uk
SUMMARY:The Rising Sun\, Hurley
DESCRIPTION:
URL:https://sugarandsax.co.uk/event/the-rising-sun-hurley
LOCATION:The Rising Sun\, Hurley\, High Street\, Hurley\, Berkshire\, SL6 5LT
END:VEVENT
BEGIN:VEVENT
DTSTART;TZID=UTC:20221015T203000
DTEND;TZID=UTC:20221015T230000
DTSTAMP:20260422T001907
CREATED:20220506T143834Z
LAST-MODIFIED:20220506T143834Z
UID:692-1665865800-1665874800@sugarandsax.co.uk
SUMMARY:Henry VI\, Eton
DESCRIPTION:
URL:https://sugarandsax.co.uk/event/henry-vi-eton-3
LOCATION:Henry VI\, Eton\, 37 High St\, Eton\, Windsor\, SL4 6BD\, United Kingdom
END:VEVENT
BEGIN:VEVENT
DTSTART;TZID=UTC:20221014T190000
DTEND;TZID=UTC:20221014T210000
DTSTAMP:20260422T001907
CREATED:20220421T132347Z
LAST-MODIFIED:20221009T123243Z
UID:679-1665774000-1665781200@sugarandsax.co.uk
SUMMARY:The Golden Ball\, Maidenhead
DESCRIPTION:
URL:https://sugarandsax.co.uk/event/the-greyhound-inn-chalfont-st-peter
LOCATION:The Golden Ball\, 2 Golden Ball Lane\, Pinkneys Green\, Maidenhead\, SL6 6NW
END:VEVENT
BEGIN:VEVENT
DTSTART;TZID=UTC:20221008T200000
DTEND;TZID=UTC:20221008T233000
DTSTAMP:20260422T001907
CREATED:20220208T095441Z
LAST-MODIFIED:20220922T085313Z
UID:642-1665259200-1665271800@sugarandsax.co.uk
SUMMARY:The Golden Ball\, Maidenhead
DESCRIPTION:
URL:https://sugarandsax.co.uk/event/private-event-farnborough
LOCATION:The Golden Ball\, 2 Golden Ball Lane\, Pinkneys Green\, Maidenhead\, SL6 6NW
END:VEVENT
BEGIN:VEVENT
DTSTART;TZID=UTC:20220924T150000
DTEND;TZID=UTC:20220924T170000
DTSTAMP:20260422T001907
CREATED:20220726T132128Z
LAST-MODIFIED:20220726T132128Z
UID:754-1664031600-1664038800@sugarandsax.co.uk
SUMMARY:Private Function\, Maidenhead
DESCRIPTION:
URL:https://sugarandsax.co.uk/event/private-function-maidenhead
END:VEVENT
BEGIN:VEVENT
DTSTART;TZID=UTC:20220923T200000
DTEND;TZID=UTC:20220923T233000
DTSTAMP:20260422T001907
CREATED:20220524T141025Z
LAST-MODIFIED:20220524T141025Z
UID:697-1663963200-1663975800@sugarandsax.co.uk
SUMMARY:Cricketers\, Yateley
DESCRIPTION:
URL:https://sugarandsax.co.uk/event/cricketers-yateley-3
LOCATION:Cricketers\, Yateley\, Cricket Hill Ln\, Yateley\, GU46 6BA
END:VEVENT
BEGIN:VEVENT
DTSTART;TZID=UTC:20220910T223000
DTEND;TZID=UTC:20220910T235900
DTSTAMP:20260422T001907
CREATED:20220123T221516Z
LAST-MODIFIED:20220123T221516Z
UID:521-1662849000-1662854340@sugarandsax.co.uk
SUMMARY:The Old Ticket Hall\, Windsor
DESCRIPTION:
URL:https://sugarandsax.co.uk/event/the-old-ticket-hall-windsor-5
LOCATION:The Old Ticket Hall\, Farm Yard\, Windsor\, SL4 1QL
END:VEVENT
BEGIN:VEVENT
DTSTART;TZID=UTC:20220909T190000
DTEND;TZID=UTC:20220909T223000
DTSTAMP:20260422T001907
CREATED:20220807T195021Z
LAST-MODIFIED:20220807T195021Z
UID:763-1662750000-1662762600@sugarandsax.co.uk
SUMMARY:The Golden Ball\, Maidenhead
DESCRIPTION:
URL:https://sugarandsax.co.uk/event/the-golden-ball-maidenhead-2
LOCATION:The Golden Ball\, 2 Golden Ball Lane\, Pinkneys Green\, Maidenhead\, SL6 6NW
END:VEVENT
BEGIN:VEVENT
DTSTART;TZID=UTC:20220903T210000
DTEND;TZID=UTC:20220903T233000
DTSTAMP:20260422T001907
CREATED:20220418T133212Z
LAST-MODIFIED:20220418T133212Z
UID:671-1662238800-1662247800@sugarandsax.co.uk
SUMMARY:Wishing Well\, Reading
DESCRIPTION:
URL:https://sugarandsax.co.uk/event/wishing-well-reading
LOCATION:Wishing Well\, Reading\, 280 Oxford Rd\, Reading\, RG30 1AD
END:VEVENT
BEGIN:VEVENT
DTSTART;TZID=UTC:20220902T190000
DTEND;TZID=UTC:20220902T223000
DTSTAMP:20260422T001907
CREATED:20220807T194843Z
LAST-MODIFIED:20220807T194843Z
UID:761-1662145200-1662157800@sugarandsax.co.uk
SUMMARY:The Golden Ball\, Maidenhead
DESCRIPTION:
URL:https://sugarandsax.co.uk/event/the-golden-ball-maidenhead
LOCATION:The Golden Ball\, 2 Golden Ball Lane\, Pinkneys Green\, Maidenhead\, SL6 6NW
END:VEVENT
BEGIN:VEVENT
DTSTART;TZID=UTC:20220826T203000
DTEND;TZID=UTC:20220826T233000
DTSTAMP:20260422T001907
CREATED:20220131T183219Z
LAST-MODIFIED:20220131T183219Z
UID:629-1661545800-1661556600@sugarandsax.co.uk
SUMMARY:PEWS BAR\, GUILDFORD
DESCRIPTION:
URL:https://sugarandsax.co.uk/event/pews-bar-guildford-5
LOCATION:Pews Bar and Courtyard\, 21 Chapel Street\, Guildford\, GU1 3UL
END:VEVENT
BEGIN:VEVENT
DTSTART;TZID=UTC:20220825T213000
DTEND;TZID=UTC:20220825T233000
DTSTAMP:20260422T001907
CREATED:20220714T124340Z
LAST-MODIFIED:20220714T124340Z
UID:745-1661463000-1661470200@sugarandsax.co.uk
SUMMARY:The Swan\, Beaconsfield
DESCRIPTION:
URL:https://sugarandsax.co.uk/event/the-swan-beaconsfield
LOCATION:The Swan\, Beaconsfield\, London End\, Beaconsfield\, HP9 2JD
END:VEVENT
END:VCALENDAR