BEGIN:VCALENDAR
VERSION:2.0
PRODID:-//Sugar &amp; Sax - ECPv6.0.9//NONSGML v1.0//EN
CALSCALE:GREGORIAN
METHOD:PUBLISH
X-WR-CALNAME:Sugar &amp; Sax
X-ORIGINAL-URL:https://sugarandsax.co.uk
X-WR-CALDESC:Events for Sugar &amp; Sax
REFRESH-INTERVAL;VALUE=DURATION:PT1H
X-Robots-Tag:noindex
X-PUBLISHED-TTL:PT1H
BEGIN:VTIMEZONE
TZID:UTC
BEGIN:STANDARD
TZOFFSETFROM:+0000
TZOFFSETTO:+0000
TZNAME:UTC
DTSTART:20220101T000000
END:STANDARD
END:VTIMEZONE
BEGIN:VEVENT
DTSTART;TZID=UTC:20220218T203000
DTEND;TZID=UTC:20220218T223000
DTSTAMP:20260420T055930
CREATED:20220123T222831Z
LAST-MODIFIED:20220123T222831Z
UID:528-1645216200-1645223400@sugarandsax.co.uk
SUMMARY:Pews Bar\, Guildford
DESCRIPTION:
URL:https://sugarandsax.co.uk/event/pews-bar-guildford-3
LOCATION:Pews Bar and Courtyard\, 21 Chapel Street\, Guildford\, GU1 3UL
END:VEVENT
BEGIN:VEVENT
DTSTART;TZID=UTC:20220212T210000
DTEND;TZID=UTC:20220212T230000
DTSTAMP:20260420T055930
CREATED:20220123T222649Z
LAST-MODIFIED:20220123T222649Z
UID:526-1644699600-1644706800@sugarandsax.co.uk
SUMMARY:Camberley District Club\, Camberley
DESCRIPTION:
URL:https://sugarandsax.co.uk/event/camberley-district-club-camberley
LOCATION:Camberley and District Club\, 171 London Road\, Camberley\, GU15 3JS
END:VEVENT
BEGIN:VEVENT
DTSTART;TZID=UTC:20220209T200000
DTEND;TZID=UTC:20220209T200000
DTSTAMP:20260420T055930
CREATED:20220206T164949Z
LAST-MODIFIED:20220206T164949Z
UID:640-1644436800-1644436800@sugarandsax.co.uk
SUMMARY:Private Event\, Windsor
DESCRIPTION:
URL:https://sugarandsax.co.uk/event/private-event-windsor
END:VEVENT
BEGIN:VEVENT
DTSTART;TZID=UTC:20220205T220000
DTEND;TZID=UTC:20220205T235900
DTSTAMP:20260420T055930
CREATED:20220123T213859Z
LAST-MODIFIED:20220123T214339Z
UID:466-1644098400-1644105540@sugarandsax.co.uk
SUMMARY:The Old Ticket Hall\, Windsor
DESCRIPTION:
URL:https://sugarandsax.co.uk/event/sugar-sax-the-old-ticket-hall-windsor
LOCATION:The Old Ticket Hall\, Farm Yard\, Windsor\, SL4 1QL
END:VEVENT
BEGIN:VEVENT
DTSTART;TZID=UTC:20220128T203000
DTEND;TZID=UTC:20220128T230000
DTSTAMP:20260420T055930
CREATED:20220123T213058Z
LAST-MODIFIED:20220123T214744Z
UID:462-1643401800-1643410800@sugarandsax.co.uk
SUMMARY:Pews Bar\, Guildford
DESCRIPTION:
URL:https://sugarandsax.co.uk/event/sugar-sax-pews-bar-guildford
LOCATION:Pews Bar and Courtyard\, 21 Chapel Street\, Guildford\, GU1 3UL
END:VEVENT
END:VCALENDAR