BEGIN:VCALENDAR
VERSION:2.0
PRODID:-//Sugar &amp; Sax - ECPv6.0.9//NONSGML v1.0//EN
CALSCALE:GREGORIAN
METHOD:PUBLISH
X-WR-CALNAME:Sugar &amp; Sax
X-ORIGINAL-URL:https://sugarandsax.co.uk
X-WR-CALDESC:Events for Sugar &amp; Sax
REFRESH-INTERVAL;VALUE=DURATION:PT1H
X-Robots-Tag:noindex
X-PUBLISHED-TTL:PT1H
BEGIN:VTIMEZONE
TZID:UTC
BEGIN:STANDARD
TZOFFSETFROM:+0000
TZOFFSETTO:+0000
TZNAME:UTC
DTSTART:20250101T000000
END:STANDARD
END:VTIMEZONE
BEGIN:VEVENT
DTSTART;TZID=UTC:20250809T200000
DTEND;TZID=UTC:20250809T203000
DTSTAMP:20260421T192645
CREATED:20250312T222438Z
LAST-MODIFIED:20250312T222438Z
UID:16645-1754769600-1754771400@sugarandsax.co.uk
SUMMARY:The Swan\, Beaconsfield
DESCRIPTION:
URL:https://sugarandsax.co.uk/event/the-swan-beaconsfield-17
LOCATION:The Swan\, Beaconsfield\, London End\, Beaconsfield\, HP9 2JD
END:VEVENT
BEGIN:VEVENT
DTSTART;TZID=UTC:20250810T173000
DTEND;TZID=UTC:20250810T173000
DTSTAMP:20260421T192645
CREATED:20250707T094214Z
LAST-MODIFIED:20250707T094214Z
UID:19478-1754847000-1754847000@sugarandsax.co.uk
SUMMARY:Private Party\, Guildford
DESCRIPTION:
URL:https://sugarandsax.co.uk/event/private-party-guildford-2
END:VEVENT
BEGIN:VEVENT
DTSTART;VALUE=DATE:20250815
DTEND;VALUE=DATE:20250817
DTSTAMP:20260421T192645
CREATED:20250404T230153Z
LAST-MODIFIED:20250404T230153Z
UID:17211-1755226800-1755313199@sugarandsax.co.uk
SUMMARY:Private Party\, Hartley Wintney
DESCRIPTION:
URL:https://sugarandsax.co.uk/event/private-party-hartley-wintney
END:VEVENT
BEGIN:VEVENT
DTSTART;VALUE=DATE:20250816
DTEND;VALUE=DATE:20250818
DTSTAMP:20260421T192645
CREATED:20250305T154638Z
LAST-MODIFIED:20250305T154638Z
UID:16458-1755313200-1755399599@sugarandsax.co.uk
SUMMARY:Private Function\, Frimley
DESCRIPTION:
URL:https://sugarandsax.co.uk/event/private-function-frimley
END:VEVENT
BEGIN:VEVENT
DTSTART;TZID=UTC:20250822T203000
DTEND;TZID=UTC:20250822T203000
DTSTAMP:20260421T192645
CREATED:20250108T181150Z
LAST-MODIFIED:20250108T181150Z
UID:15069-1755894600-1755894600@sugarandsax.co.uk
SUMMARY:Pews\, Guildford
DESCRIPTION:
URL:https://sugarandsax.co.uk/event/pews-guildford-8
LOCATION:Pews Bar and Courtyard\, 21 Chapel Street\, Guildford\, GU1 3UL
END:VEVENT
BEGIN:VEVENT
DTSTART;TZID=UTC:20250823T133000
DTEND;TZID=UTC:20250823T133000
DTSTAMP:20260421T192645
CREATED:20241201T175023Z
LAST-MODIFIED:20241201T175023Z
UID:14144-1755955800-1755955800@sugarandsax.co.uk
SUMMARY:Wokingham Festival
DESCRIPTION:
URL:https://sugarandsax.co.uk/event/wokingham-festival
END:VEVENT
BEGIN:VEVENT
DTSTART;TZID=UTC:20250829T200000
DTEND;TZID=UTC:20250829T200000
DTSTAMP:20260421T192645
CREATED:20240703T181603Z
LAST-MODIFIED:20240902T075052Z
UID:10416-1756497600-1756497600@sugarandsax.co.uk
SUMMARY:The Swan\, Farnborough
DESCRIPTION:
URL:https://sugarandsax.co.uk/event/the-swan-farnborough-7
LOCATION:The Swan\, Farnborough\, 91 Farnborough Rd\, Farnborough\, Hampshire\, GU14 6TL
END:VEVENT
END:VCALENDAR