BEGIN:VCALENDAR
VERSION:2.0
PRODID:-//Sugar &amp; Sax - ECPv6.0.9//NONSGML v1.0//EN
CALSCALE:GREGORIAN
METHOD:PUBLISH
X-WR-CALNAME:Sugar &amp; Sax
X-ORIGINAL-URL:https://sugarandsax.co.uk
X-WR-CALDESC:Events for Sugar &amp; Sax
REFRESH-INTERVAL;VALUE=DURATION:PT1H
X-Robots-Tag:noindex
X-PUBLISHED-TTL:PT1H
BEGIN:VTIMEZONE
TZID:UTC
BEGIN:STANDARD
TZOFFSETFROM:+0000
TZOFFSETTO:+0000
TZNAME:UTC
DTSTART:20260101T000000
END:STANDARD
END:VTIMEZONE
BEGIN:VEVENT
DTSTART;TZID=UTC:20260801T193000
DTEND;TZID=UTC:20260801T193000
DTSTAMP:20260423T125337
CREATED:20260309T121559Z
LAST-MODIFIED:20260309T121559Z
UID:25460-1785612600-1785612600@sugarandsax.co.uk
SUMMARY:Private Party
DESCRIPTION:
URL:https://sugarandsax.co.uk/event/private-party-3
END:VEVENT
BEGIN:VEVENT
DTSTART;TZID=UTC:20260808T213000
DTEND;TZID=UTC:20260808T213000
DTSTAMP:20260423T125337
CREATED:20260303T121055Z
LAST-MODIFIED:20260303T121055Z
UID:25313-1786224600-1786224600@sugarandsax.co.uk
SUMMARY:The Swan\, Beaconsfield
DESCRIPTION:
URL:https://sugarandsax.co.uk/event/the-swan-beaconsfield-28
LOCATION:The Swan\, Beaconsfield\, London End\, Beaconsfield\, HP9 2JD
END:VEVENT
BEGIN:VEVENT
DTSTART;TZID=UTC:20260814T200000
DTEND;TZID=UTC:20260814T200000
DTSTAMP:20260423T125337
CREATED:20260109T170255Z
LAST-MODIFIED:20260109T170255Z
UID:24014-1786737600-1786737600@sugarandsax.co.uk
SUMMARY:The Swan\, Farnborough
DESCRIPTION:
URL:https://sugarandsax.co.uk/event/the-swan-farnborough-11
LOCATION:The Swan\, Farnborough\, 91 Farnborough Rd\, Farnborough\, Hampshire\, GU14 6TL
END:VEVENT
BEGIN:VEVENT
DTSTART;TZID=UTC:20260822T213000
DTEND;TZID=UTC:20260822T213000
DTSTAMP:20260423T125337
CREATED:20260129T100918Z
LAST-MODIFIED:20260129T100918Z
UID:24502-1787434200-1787434200@sugarandsax.co.uk
SUMMARY:The Swan\, Beaconsfield
DESCRIPTION:
URL:https://sugarandsax.co.uk/event/the-swan-beaconsfield-23
LOCATION:The Swan\, Beaconsfield\, London End\, Beaconsfield\, HP9 2JD
END:VEVENT
END:VCALENDAR